BEGIN:VCALENDAR
VERSION:2.0
PRODID:GlueUp
CALSCALE:GREGORIAN
BEGIN:VTIMEZONE
TZID:UTC
BEGIN:STANDARD
DTSTART:19700101T000000
TZOFFSETFROM:+0000
TZOFFSETTO:+0000
TZNAME:UTC
END:STANDARD
END:VTIMEZONE
BEGIN:VEVENT
TZ:+00
ORGANIZER;CN=Singcham Shanghai:MAILTO:singcham.sh@singcham-shanghai.org
UID:50104-1777033895@https://singcham-shanghai.glueup.cn
DTSTAMP:20260424T123135Z
DTSTART:20260416T103000Z
DTEND:20260416T130000Z
SUMMARY:16 April丨After Hours – April Quiz Night
DESCRIPTION:16 April丨After Hours – April Quiz Night by SingCham Shanghai\n\nApr 16, 2026 (6:30 PM - 9:00 PM)(GMT+8)\n\nFor more information, click here: https://singcham-shanghai.glueup.cn/my/events/50104
LOCATION:Guinness Social by Butler & White’s - No. 7 - Lane 210 - Taikang Road - Huangpu District - Shanghai - 上海市黄浦区泰康路210弄7号院 Shanghai - China
BEGIN:VALARM
TRIGGER:-PT48H
REPEAT:4
DURATION:PT30M
ACTION:DISPLAY
END:VALARM
END:VEVENT
END:VCALENDAR