BEGIN:VCALENDAR
VERSION:2.0
PRODID:GlueUp
CALSCALE:GREGORIAN
BEGIN:VTIMEZONE
TZID:UTC
BEGIN:STANDARD
DTSTART:19700101T000000
TZOFFSETFROM:+0000
TZOFFSETTO:+0000
TZNAME:UTC
END:STANDARD
END:VTIMEZONE
BEGIN:VEVENT
TZ:+00
ORGANIZER;CN=Singcham Shanghai:MAILTO:singcham.sh@singcham-shanghai.org
UID:47784-1776646851@https://singcham-shanghai.glueup.cn
DTSTAMP:20260420T010051Z
DTSTART:20250728T050000Z
DTEND:20250728T093000Z
SUMMARY:China-ASEAN AI Forum 中国-东盟 AI论坛
DESCRIPTION:China-ASEAN AI Forum 中国-东盟 AI论坛 by SingCham Shanghai\n\nJul 28, 2025 (1:00 PM - 5:30 PM)(GMT+8)\n\nFor more information, click here: https://singcham-shanghai.glueup.cn/my/events/47784
LOCATION:Shanghai World Expo Exhibition and Convention Center, Conference Room X - No. 1099 Guozhan Road  - Pudong District Shanghai - China
BEGIN:VALARM
TRIGGER:-PT48H
REPEAT:4
DURATION:PT30M
ACTION:DISPLAY
END:VALARM
END:VEVENT
END:VCALENDAR