BEGIN:VCALENDAR
VERSION:2.0
PRODID:GlueUp
CALSCALE:GREGORIAN
BEGIN:VTIMEZONE
TZID:UTC
BEGIN:STANDARD
DTSTART:19700101T000000
TZOFFSETFROM:+0000
TZOFFSETTO:+0000
TZNAME:UTC
END:STANDARD
END:VTIMEZONE
BEGIN:VEVENT
TZ:+00
ORGANIZER;CN=Singcham Shanghai:MAILTO:singcham.sh@singcham-shanghai.org
UID:47399-1776653485@https://singcham-shanghai.glueup.cn
DTSTAMP:20260420T025125Z
DTSTART:20250614T070000Z
DTEND:20250614T140000Z
SUMMARY:Inter-Chambers Summer Fair and Nonya Dinner 2025
DESCRIPTION:Inter-Chambers Summer Fair and Nonya Dinner 2025 by SingCham Shanghai\n\nJun 14, 2025 (3:00 PM - 10:00 PM)(GMT+8)\n\nFor more information, click here: https://singcham-shanghai.glueup.cn/my/events/47399
LOCATION:Amara Signature Shanghai Hotel 5F - Level 6 - Meeting Room 8/9 - 600 Chang Shou Road - Putuo District - 上海安曼纳卓悦酒店 - 普陀区长寿路600号 Shanghai - China
BEGIN:VALARM
TRIGGER:-PT48H
REPEAT:4
DURATION:PT30M
ACTION:DISPLAY
END:VALARM
END:VEVENT
END:VCALENDAR