BEGIN:VCALENDAR
VERSION:2.0
PRODID:GlueUp
CALSCALE:GREGORIAN
BEGIN:VTIMEZONE
TZID:UTC
BEGIN:STANDARD
DTSTART:19700101T000000
TZOFFSETFROM:+0000
TZOFFSETTO:+0000
TZNAME:UTC
END:STANDARD
END:VTIMEZONE
BEGIN:VEVENT
TZ:+00
ORGANIZER;CN=Singcham Shanghai:MAILTO:singcham.sh@singcham-shanghai.org
UID:47956-1776645542@https://singcham-shanghai.glueup.cn
DTSTAMP:20260420T003902Z
DTSTART:20250828T090000Z
DTEND:20250828T124500Z
SUMMARY:Interchamber Mixer
DESCRIPTION:Interchamber Mixer by SingCham Shanghai\n\nAug 28, 2025 (5:00 PM - 8:45 PM)(GMT+8)\n\nFor more information, click here: https://singcham-shanghai.glueup.cn/my/events/47956
LOCATION:Huangpu River Cruise黄浦江游览 - 上海市黄浦区外马路 99 号 - Huangpu,Shanghai. No.99 Wai Ma Road 上海 - China
BEGIN:VALARM
TRIGGER:-PT48H
REPEAT:4
DURATION:PT30M
ACTION:DISPLAY
END:VALARM
END:VEVENT
END:VCALENDAR