BEGIN:VCALENDAR
VERSION:2.0
PRODID:GlueUp
CALSCALE:GREGORIAN
BEGIN:VTIMEZONE
TZID:UTC
BEGIN:STANDARD
DTSTART:19700101T000000
TZOFFSETFROM:+0000
TZOFFSETTO:+0000
TZNAME:UTC
END:STANDARD
END:VTIMEZONE
BEGIN:VEVENT
TZ:+00
ORGANIZER;CN=Singcham Shanghai:MAILTO:singcham.sh@singcham-shanghai.org
UID:48338-1776645900@https://singcham-shanghai.glueup.cn
DTSTAMP:20260420T004500Z
DTSTART:20250926T103000Z
DTEND:20250926T130000Z
SUMMARY:Interchamber– Moonlight Mixer
DESCRIPTION:Interchamber– Moonlight Mixer by SingCham Shanghai\n\nSep 26, 2025 (6:30 PM - 9:00 PM)(GMT+8)\n\nFor more information, click here: https://singcham-shanghai.glueup.cn/my/events/48338
LOCATION:上海金普顿前滩酒店9楼 - 浦东新区前滩大道199弄9号 - No. 9 - Lane 199 - Qiantan Avenue - Pudong New Area 上海 - China
BEGIN:VALARM
TRIGGER:-PT48H
REPEAT:4
DURATION:PT30M
ACTION:DISPLAY
END:VALARM
END:VEVENT
END:VCALENDAR