BEGIN:VCALENDAR
VERSION:2.0
PRODID:GlueUp
CALSCALE:GREGORIAN
BEGIN:VTIMEZONE
TZID:UTC
BEGIN:STANDARD
DTSTART:19700101T000000
TZOFFSETFROM:+0000
TZOFFSETTO:+0000
TZNAME:UTC
END:STANDARD
END:VTIMEZONE
BEGIN:VEVENT
TZ:+00
ORGANIZER;CN=Catherine Thai:MAILTO:catherine.thai@singcham-shanghai.org
UID:48417-1776646949@https://singcham-shanghai.glueup.cn
DTSTAMP:20260420T010229Z
DTSTART:20251019T040000Z
DTEND:20251019T063000Z
SUMMARY:[MEMBER ONLY]REGISTRATION FOR ANNUAL GENERAL MEETING 2025
DESCRIPTION:[MEMBER ONLY]REGISTRATION FOR ANNUAL GENERAL MEETING 2025 by SingCham Shanghai\n\nOct 19, 2025 (12:00 PM - 2:30 PM)(GMT+8)\n\nFor more information, click here: https://singcham-shanghai.glueup.cn/my/events/48417
LOCATION:上海市徐汇区中山南二路1089号徐汇苑大厦301-2-B室 - Room 301-2-B - Xuhuiyuan Building - No. 1089 South Zhongshan Road II - Shanghai Shanghai - China
BEGIN:VALARM
TRIGGER:-PT48H
REPEAT:4
DURATION:PT30M
ACTION:DISPLAY
END:VALARM
END:VEVENT
END:VCALENDAR