BEGIN:VCALENDAR
VERSION:2.0
PRODID:GlueUp
CALSCALE:GREGORIAN
BEGIN:VTIMEZONE
TZID:UTC
BEGIN:STANDARD
DTSTART:19700101T000000
TZOFFSETFROM:+0000
TZOFFSETTO:+0000
TZNAME:UTC
END:STANDARD
END:VTIMEZONE
BEGIN:VEVENT
TZ:+00
ORGANIZER;CN=Singcham Shanghai:MAILTO:singcham.sh@singcham-shanghai.org
UID:48453-1776646902@https://singcham-shanghai.glueup.cn
DTSTAMP:20260420T010142Z
DTSTART:20251023T010000Z
DTEND:20251023T083000Z
SUMMARY:SingCham China Sustainability Forum 2025& Global Talent Connect Symposium
DESCRIPTION:SingCham China Sustainability Forum 2025& Global Talent Connect Symposium by SingCham Shanghai\n\nOct 23, 2025 (9:00 AM - 4:30 PM)(GMT+8)\n\nFor more information, click here: https://singcham-shanghai.glueup.cn/my/events/48453
LOCATION:中国上海普陀区半马苏河国际会议中心三层 - 3F,Bomma Sube International Conference CenterPutuo District - Shanghai - China Shanghai - China
BEGIN:VALARM
TRIGGER:-PT48H
REPEAT:4
DURATION:PT30M
ACTION:DISPLAY
END:VALARM
END:VEVENT
END:VCALENDAR