BEGIN:VCALENDAR
VERSION:2.0
PRODID:GlueUp
CALSCALE:GREGORIAN
BEGIN:VTIMEZONE
TZID:UTC
BEGIN:STANDARD
DTSTART:19700101T000000
TZOFFSETFROM:+0000
TZOFFSETTO:+0000
TZNAME:UTC
END:STANDARD
END:VTIMEZONE
BEGIN:VEVENT
TZ:+00
ORGANIZER;CN=SingCham Shanghai Events:MAILTO:events@singcham-shanghai.org
UID:33007-1776898255@https://singcham-shanghai.glueup.cn
DTSTAMP:20260422T225055Z
DTSTART:20210914T050000Z
DTEND:20210914T124500Z
SUMMARY:SingCham Shanghai Digital Transformation Forum
DESCRIPTION:SingCham Shanghai Digital Transformation Forum by SingCham Shanghai\n\nSep 14, 2021 (1:00 PM - 8:45 PM)(GMT+8)\n\nFor more information, click here: https://singcham-shanghai.glueup.cn/my/events/33007
LOCATION:Amara Signature Shanghai Hotel - Ballroom I - Level 5 - 600 Changshou Road - Putuo District - 上海安曼纳卓悦酒店 - 普陀区长寿路600号 Shanghai - China
BEGIN:VALARM
TRIGGER:-PT48H
REPEAT:4
DURATION:PT30M
ACTION:DISPLAY
END:VALARM
END:VEVENT
END:VCALENDAR