BEGIN:VCALENDAR
VERSION:2.0
PRODID:GlueUp
CALSCALE:GREGORIAN
BEGIN:VTIMEZONE
TZID:UTC
BEGIN:STANDARD
DTSTART:19700101T000000
TZOFFSETFROM:+0000
TZOFFSETTO:+0000
TZNAME:UTC
END:STANDARD
END:VTIMEZONE
BEGIN:VEVENT
TZ:+00
ORGANIZER;CN=Singcham Shanghai:MAILTO:singcham.sh@singcham-shanghai.org
UID:50230-1776675121@https://singcham-shanghai.glueup.cn
DTSTAMP:20260420T085201Z
DTSTART:20260506T010000Z
DTEND:20260506T090000Z
SUMMARY:Wed 6 May | Invitation to Tech Week Shanghai
DESCRIPTION:Wed 6 May | Invitation to Tech Week Shanghai by SingCham Shanghai\n\nMay 6, 2026 (9:00 AM - 5:00 PM)(GMT+8)\n\nFor more information, click here: https://singcham-shanghai.glueup.cn/my/events/50230
LOCATION:浦东嘉里酒店 - 上海 - China
BEGIN:VALARM
TRIGGER:-PT48H
REPEAT:4
DURATION:PT30M
ACTION:DISPLAY
END:VALARM
END:VEVENT
END:VCALENDAR