BEGIN:VCALENDAR
VERSION:2.0
PRODID:GlueUp
CALSCALE:GREGORIAN
BEGIN:VTIMEZONE
TZID:UTC
BEGIN:STANDARD
DTSTART:19700101T000000
TZOFFSETFROM:+0000
TZOFFSETTO:+0000
TZNAME:UTC
END:STANDARD
END:VTIMEZONE
BEGIN:VEVENT
TZ:+00
ORGANIZER;CN=Singcham Shanghai:MAILTO:singcham.sh@singcham-shanghai.org
UID:48964-1776646024@https://singcham-shanghai.glueup.cn
DTSTAMP:20260420T004704Z
DTSTART:20251128T100000Z
DTEND:20251128T130000Z
SUMMARY:合作共赢共创繁荣交流论坛
DESCRIPTION:合作共赢共创繁荣交流论坛 by SingCham Shanghai\n\nNov 28, 2025 (6:00 PM - 9:00 PM)(GMT+8)\n\nFor more information, click here: https://singcham-shanghai.glueup.cn/my/events/48964
LOCATION:SORSA留学人员之家 - 黄浦区四川中路220号二楼 Shanghai - China
BEGIN:VALARM
TRIGGER:-PT48H
REPEAT:4
DURATION:PT30M
ACTION:DISPLAY
END:VALARM
END:VEVENT
END:VCALENDAR