BEGIN:VCALENDAR
VERSION:2.0
PRODID:GlueUp
CALSCALE:GREGORIAN
BEGIN:VTIMEZONE
TZID:UTC
BEGIN:STANDARD
DTSTART:19700101T000000
TZOFFSETFROM:+0000
TZOFFSETTO:+0000
TZNAME:UTC
END:STANDARD
END:VTIMEZONE
BEGIN:VEVENT
TZ:+00
ORGANIZER;CN=Singcham Shanghai:MAILTO:singcham.sh@singcham-shanghai.org
UID:50102-1777029001@https://singcham-shanghai.glueup.cn
DTSTAMP:20260424T111001Z
DTSTART:20260417T090000Z
DTEND:20260417T113000Z
SUMMARY:解读2026两会新动向 共话中新合作新动能专题分享与交流会
DESCRIPTION:解读2026两会新动向 共话中新合作新动能专题分享与交流会 by SingCham Shanghai\n\nApr 17, 2026 (5:00 PM - 7:30 PM)(GMT+8)\n\nFor more information, click here: https://singcham-shanghai.glueup.cn/my/events/50102
LOCATION:
BEGIN:VALARM
TRIGGER:-PT48H
REPEAT:4
DURATION:PT30M
ACTION:DISPLAY
END:VALARM
END:VEVENT
END:VCALENDAR