BEGIN:VCALENDAR
VERSION:2.0
PRODID:GlueUp
CALSCALE:GREGORIAN
BEGIN:VTIMEZONE
TZID:UTC
BEGIN:STANDARD
DTSTART:19700101T000000
TZOFFSETFROM:+0000
TZOFFSETTO:+0000
TZNAME:UTC
END:STANDARD
END:VTIMEZONE
BEGIN:VEVENT
TZ:+00
ORGANIZER;CN=Singcham Shanghai:MAILTO:singcham.sh@singcham-shanghai.org
UID:48965-1776873686@https://singcham-shanghai.glueup.cn
DTSTAMP:20260422T160126Z
DTSTART:20251218T100000Z
DTEND:20251218T123000Z
SUMMARY:跨商会圣诞社交派对|Inter-Chamber Christmas Social Mixer
DESCRIPTION:跨商会圣诞社交派对|Inter-Chamber Christmas Social Mixer by SingCham Shanghai\n\nDec 18, 2025 (6:00 PM - 8:30 PM)(GMT+8)\n\nFor more information, click here: https://singcham-shanghai.glueup.cn/my/events/48965
LOCATION:PAC购物中心·VIP贵宾区 - 静安区常德路688号 Shanghai - China
BEGIN:VALARM
TRIGGER:-PT48H
REPEAT:4
DURATION:PT30M
ACTION:DISPLAY
END:VALARM
END:VEVENT
END:VCALENDAR